BEGIN:VCALENDAR
VERSION:2.0
PRODID:-//Feuerwehr Waal - ECPv6.15.20//NONSGML v1.0//EN
CALSCALE:GREGORIAN
METHOD:PUBLISH
X-ORIGINAL-URL:https://feuerwehr-waal.de
X-WR-CALDESC:Veranstaltungen für Feuerwehr Waal
REFRESH-INTERVAL;VALUE=DURATION:PT1H
X-Robots-Tag:noindex
X-PUBLISHED-TTL:PT1H
BEGIN:VTIMEZONE
TZID:Europe/Berlin
BEGIN:DAYLIGHT
TZOFFSETFROM:+0100
TZOFFSETTO:+0200
TZNAME:CEST
DTSTART:20250330T010000
END:DAYLIGHT
BEGIN:STANDARD
TZOFFSETFROM:+0200
TZOFFSETTO:+0100
TZNAME:CET
DTSTART:20251026T010000
END:STANDARD
BEGIN:DAYLIGHT
TZOFFSETFROM:+0100
TZOFFSETTO:+0200
TZNAME:CEST
DTSTART:20260329T010000
END:DAYLIGHT
BEGIN:STANDARD
TZOFFSETFROM:+0200
TZOFFSETTO:+0100
TZNAME:CET
DTSTART:20261025T010000
END:STANDARD
BEGIN:DAYLIGHT
TZOFFSETFROM:+0100
TZOFFSETTO:+0200
TZNAME:CEST
DTSTART:20270328T010000
END:DAYLIGHT
BEGIN:STANDARD
TZOFFSETFROM:+0200
TZOFFSETTO:+0100
TZNAME:CET
DTSTART:20271031T010000
END:STANDARD
END:VTIMEZONE
BEGIN:VEVENT
DTSTART;VALUE=DATE:20260927
DTEND;VALUE=DATE:20260928
DTSTAMP:20260424T151213
CREATED:20260117T150101Z
LAST-MODIFIED:20260117T150135Z
UID:3243-1790467200-1790553599@feuerwehr-waal.de
SUMMARY:Lange Nacht der Feuerwehr
DESCRIPTION:
URL:https://feuerwehr-waal.de/veranstaltungen/lange-nacht-der-feuerwehr/
LOCATION:Feuerwehrhaus Waal\, Marktplatz 1\, Waal\, 86875\, Deutschland
CATEGORIES:Veranstaltung
END:VEVENT
END:VCALENDAR