BEGIN:VCALENDAR
VERSION:2.0
PRODID:-//Feuerwehr Waal - ECPv6.15.20//NONSGML v1.0//EN
CALSCALE:GREGORIAN
METHOD:PUBLISH
X-WR-CALNAME:Feuerwehr Waal
X-ORIGINAL-URL:https://feuerwehr-waal.de
X-WR-CALDESC:Veranstaltungen für Feuerwehr Waal
REFRESH-INTERVAL;VALUE=DURATION:PT1H
X-Robots-Tag:noindex
X-PUBLISHED-TTL:PT1H
BEGIN:VTIMEZONE
TZID:Europe/Berlin
BEGIN:DAYLIGHT
TZOFFSETFROM:+0100
TZOFFSETTO:+0200
TZNAME:CEST
DTSTART:20250330T010000
END:DAYLIGHT
BEGIN:STANDARD
TZOFFSETFROM:+0200
TZOFFSETTO:+0100
TZNAME:CET
DTSTART:20251026T010000
END:STANDARD
BEGIN:DAYLIGHT
TZOFFSETFROM:+0100
TZOFFSETTO:+0200
TZNAME:CEST
DTSTART:20260329T010000
END:DAYLIGHT
BEGIN:STANDARD
TZOFFSETFROM:+0200
TZOFFSETTO:+0100
TZNAME:CET
DTSTART:20261025T010000
END:STANDARD
BEGIN:DAYLIGHT
TZOFFSETFROM:+0100
TZOFFSETTO:+0200
TZNAME:CEST
DTSTART:20270328T010000
END:DAYLIGHT
BEGIN:STANDARD
TZOFFSETFROM:+0200
TZOFFSETTO:+0100
TZNAME:CET
DTSTART:20271031T010000
END:STANDARD
END:VTIMEZONE
BEGIN:VEVENT
DTSTART;VALUE=DATE:20260718
DTEND;VALUE=DATE:20260720
DTSTAMP:20260424T114157
CREATED:20260117T145959Z
LAST-MODIFIED:20260117T145959Z
UID:3241-1784332800-1784505599@feuerwehr-waal.de
SUMMARY:Tag der offenen Tür am Kunsthandwerkermarkt Waal
DESCRIPTION:
URL:https://feuerwehr-waal.de/veranstaltungen/tag-der-offenen-tuer-am-kunsthandwerkermarkt-waal/
LOCATION:Feuerwehrhaus Waal\, Marktplatz 1\, Waal\, 86875\, Deutschland
CATEGORIES:Veranstaltung
END:VEVENT
END:VCALENDAR