BEGIN:VCALENDAR
VERSION:2.0
PRODID:-//Feuerwehr Waal - ECPv6.15.20//NONSGML v1.0//EN
CALSCALE:GREGORIAN
METHOD:PUBLISH
X-WR-CALNAME:Feuerwehr Waal
X-ORIGINAL-URL:https://feuerwehr-waal.de
X-WR-CALDESC:Veranstaltungen für Feuerwehr Waal
REFRESH-INTERVAL;VALUE=DURATION:PT1H
X-Robots-Tag:noindex
X-PUBLISHED-TTL:PT1H
BEGIN:VTIMEZONE
TZID:Europe/Berlin
BEGIN:DAYLIGHT
TZOFFSETFROM:+0100
TZOFFSETTO:+0200
TZNAME:CEST
DTSTART:20250330T010000
END:DAYLIGHT
BEGIN:STANDARD
TZOFFSETFROM:+0200
TZOFFSETTO:+0100
TZNAME:CET
DTSTART:20251026T010000
END:STANDARD
BEGIN:DAYLIGHT
TZOFFSETFROM:+0100
TZOFFSETTO:+0200
TZNAME:CEST
DTSTART:20260329T010000
END:DAYLIGHT
BEGIN:STANDARD
TZOFFSETFROM:+0200
TZOFFSETTO:+0100
TZNAME:CET
DTSTART:20261025T010000
END:STANDARD
BEGIN:DAYLIGHT
TZOFFSETFROM:+0100
TZOFFSETTO:+0200
TZNAME:CEST
DTSTART:20270328T010000
END:DAYLIGHT
BEGIN:STANDARD
TZOFFSETFROM:+0200
TZOFFSETTO:+0100
TZNAME:CET
DTSTART:20271031T010000
END:STANDARD
END:VTIMEZONE
BEGIN:VEVENT
DTSTART;TZID=Europe/Berlin:20260221T193000
DTEND;TZID=Europe/Berlin:20260221T193000
DTSTAMP:20260424T111049
CREATED:20260117T144627Z
LAST-MODIFIED:20260117T154149Z
UID:3209-1771702200-1771702200@feuerwehr-waal.de
SUMMARY:156. Jahreshauptversammlung
DESCRIPTION:Einladung zur Jahreshauptversammlung der Freiwilligen Feuerwehr Waal e.V. \n  \nHiermit ergeht an alle aktiven Feuerwehrleute\, die Mitglieder der Jugendfeuerwehr\, alle passiven Mitglieder und die Ehrenmitglieder der Freiwilligen Feuerwehr Waal e.V. die recht herzliche Einladung zur Jahreshauptversammlung. \n            Termin: Samstag\, den 21.02.2026 \nBeginn: 19:30 Uhr \n            Örtlichkeit: Waal\, Gasthaus Deutsches Haus \nDie aktiven Feuerwehrleute werden gebeten\, in Dienstuniform zu erscheinen. \n  \nTagesordnung der 156. Jahreshauptversammlung \n\n\n\n\n\n\n\n\n\n\n\n\n\n\n\n\n\n\n\nBegrüßung\nBericht des Schriftführers\nBericht des Kommandanten\nBericht des Jugendwartes\nBericht des Vorstands\nBericht des Kassiers\nBericht der Kassenprüfer mit Antrag auf Entlastung\nGrußwort der Gäste\nEhrungen und Beförderungen\nWünsche und Anregungen\n\n\n\n\n\n\n\n\n\n\n\n\n\n\n\n\n\n\n\n  \n  \n  \nIvan Pavlovic-Mellis                                            Markus Fischer \nVorstand                                                                 Kommandant
URL:https://feuerwehr-waal.de/veranstaltungen/156-jahreshauptversammlung/
LOCATION:Deutsches Haus Waal\, Ritter-von-Herkommer-Straße 31\, Waal\, 86875\, Germany
CATEGORIES:Veranstaltung
END:VEVENT
END:VCALENDAR