BEGIN:VCALENDAR
VERSION:2.0
PRODID:-//Feuerwehr Waal - ECPv6.15.20//NONSGML v1.0//EN
CALSCALE:GREGORIAN
METHOD:PUBLISH
X-WR-CALNAME:Feuerwehr Waal
X-ORIGINAL-URL:https://feuerwehr-waal.de
X-WR-CALDESC:Veranstaltungen für Feuerwehr Waal
REFRESH-INTERVAL;VALUE=DURATION:PT1H
X-Robots-Tag:noindex
X-PUBLISHED-TTL:PT1H
BEGIN:VTIMEZONE
TZID:Europe/Berlin
BEGIN:DAYLIGHT
TZOFFSETFROM:+0100
TZOFFSETTO:+0200
TZNAME:CEST
DTSTART:20240331T010000
END:DAYLIGHT
BEGIN:STANDARD
TZOFFSETFROM:+0200
TZOFFSETTO:+0100
TZNAME:CET
DTSTART:20241027T010000
END:STANDARD
BEGIN:DAYLIGHT
TZOFFSETFROM:+0100
TZOFFSETTO:+0200
TZNAME:CEST
DTSTART:20250330T010000
END:DAYLIGHT
BEGIN:STANDARD
TZOFFSETFROM:+0200
TZOFFSETTO:+0100
TZNAME:CET
DTSTART:20251026T010000
END:STANDARD
BEGIN:DAYLIGHT
TZOFFSETFROM:+0100
TZOFFSETTO:+0200
TZNAME:CEST
DTSTART:20260329T010000
END:DAYLIGHT
BEGIN:STANDARD
TZOFFSETFROM:+0200
TZOFFSETTO:+0100
TZNAME:CET
DTSTART:20261025T010000
END:STANDARD
END:VTIMEZONE
BEGIN:VEVENT
DTSTART;TZID=Europe/Berlin:20250912T160000
DTEND;TZID=Europe/Berlin:20250912T160000
DTSTAMP:20260424T181656
CREATED:20241209T220246Z
LAST-MODIFIED:20250707T180323Z
UID:2740-1757692800-1757692800@feuerwehr-waal.de
SUMMARY:Sommerfest der Aktiven
DESCRIPTION:
URL:https://feuerwehr-waal.de/veranstaltungen/sommerfest-der-aktiven/
LOCATION:Feuerwehrhaus Waal\, Marktplatz 1\, Waal\, 86875\, Deutschland
CATEGORIES:Veranstaltung
END:VEVENT
BEGIN:VEVENT
DTSTART;TZID=Europe/Berlin:20250924T180000
DTEND;TZID=Europe/Berlin:20250924T193000
DTSTAMP:20260424T181656
CREATED:20250730T192754Z
LAST-MODIFIED:20250730T192754Z
UID:3201-1758736800-1758742200@feuerwehr-waal.de
SUMMARY:Jugendübung - Fahrzeug- und Gerätekunde
DESCRIPTION:
URL:https://feuerwehr-waal.de/veranstaltungen/jugenduebung-fahrzeug-und-geraetekunde/
LOCATION:Feuerwehrhaus Waal\, Marktplatz 1\, Waal\, 86875\, Deutschland
CATEGORIES:Jugend,Übung
END:VEVENT
BEGIN:VEVENT
DTSTART;TZID=Europe/Berlin:20250930T193000
DTEND;TZID=Europe/Berlin:20250930T210000
DTSTAMP:20260424T181656
CREATED:20241117T164557Z
LAST-MODIFIED:20250730T192402Z
UID:2458-1759260600-1759266000@feuerwehr-waal.de
SUMMARY:Übung - Technische Hilfeleistung
DESCRIPTION:
URL:https://feuerwehr-waal.de/veranstaltungen/gesamtuebung-fwdv3-technische-hilfeleistung/
LOCATION:Feuerwehrhaus Waal\, Marktplatz 1\, Waal\, 86875\, Deutschland
CATEGORIES:Übung
END:VEVENT
END:VCALENDAR