BEGIN:VCALENDAR
VERSION:2.0
PRODID:-//Feuerwehr Waal - ECPv6.15.20//NONSGML v1.0//EN
CALSCALE:GREGORIAN
METHOD:PUBLISH
X-ORIGINAL-URL:https://feuerwehr-waal.de
X-WR-CALDESC:Veranstaltungen für Feuerwehr Waal
REFRESH-INTERVAL;VALUE=DURATION:PT1H
X-Robots-Tag:noindex
X-PUBLISHED-TTL:PT1H
BEGIN:VTIMEZONE
TZID:Europe/Berlin
BEGIN:DAYLIGHT
TZOFFSETFROM:+0100
TZOFFSETTO:+0200
TZNAME:CEST
DTSTART:20240331T010000
END:DAYLIGHT
BEGIN:STANDARD
TZOFFSETFROM:+0200
TZOFFSETTO:+0100
TZNAME:CET
DTSTART:20241027T010000
END:STANDARD
BEGIN:DAYLIGHT
TZOFFSETFROM:+0100
TZOFFSETTO:+0200
TZNAME:CEST
DTSTART:20250330T010000
END:DAYLIGHT
BEGIN:STANDARD
TZOFFSETFROM:+0200
TZOFFSETTO:+0100
TZNAME:CET
DTSTART:20251026T010000
END:STANDARD
BEGIN:DAYLIGHT
TZOFFSETFROM:+0100
TZOFFSETTO:+0200
TZNAME:CEST
DTSTART:20260329T010000
END:DAYLIGHT
BEGIN:STANDARD
TZOFFSETFROM:+0200
TZOFFSETTO:+0100
TZNAME:CET
DTSTART:20261025T010000
END:STANDARD
END:VTIMEZONE
BEGIN:VEVENT
DTSTART;TZID=Europe/Berlin:20250523T193000
DTEND;TZID=Europe/Berlin:20250523T210000
DTSTAMP:20260425T002304
CREATED:20241116T121116Z
LAST-MODIFIED:20250223T073032Z
UID:2380-1748028600-1748034000@feuerwehr-waal.de
SUMMARY:Inspektion
DESCRIPTION:
URL:https://feuerwehr-waal.de/veranstaltungen/inspektion/
LOCATION:Feuerwehrhaus Waal\, Marktplatz 1\, Waal\, 86875\, Deutschland
CATEGORIES:Übung,Veranstaltung
END:VEVENT
END:VCALENDAR